BEGIN:VCALENDAR
VERSION:2.0
PRODID:-//Svjetska organizacija za spašavanje - ECPv6.10.1.1//NONSGML v1.0//EN
CALSCALE:GREGORIAN
METHOD:PUBLISH
X-ORIGINAL-URL:https://wrescue.org
X-WR-CALDESC:Events for Svjetska organizacija za spašavanje
REFRESH-INTERVAL;VALUE=DURATION:PT1H
X-Robots-Tag:noindex
X-PUBLISHED-TTL:PT1H
BEGIN:VTIMEZONE
TZID:UTC
BEGIN:STANDARD
TZOFFSETFROM:+0000
TZOFFSETTO:+0000
TZNAME:UTC
DTSTART:20260101T000000
END:STANDARD
END:VTIMEZONE
BEGIN:VEVENT
DTSTART;VALUE=DATE:20260608
DTEND;VALUE=DATE:20260612
DTSTAMP:20260424T054809
CREATED:20250124T133353Z
LAST-MODIFIED:20260226T193603Z
UID:1135-1780959600-1781305199@wrescue.org
SUMMARY:Francuska Nacionalni izazov 2026
DESCRIPTION:The French national challenge will take place  France 9-12 June\, Pontivy \nhttps://www.pompiers.fr/challenge-national-sr-suap the website will be update
URL:https://wrescue.org/event/france-national-challenge-2026/
LOCATION:Chateroux\, France
END:VEVENT
BEGIN:VEVENT
DTSTART;VALUE=DATE:20260612
DTEND;VALUE=DATE:20260614
DTSTAMP:20260424T054809
CREATED:20260216T134645Z
LAST-MODIFIED:20260217T164445Z
UID:1152-1781305200-1781477999@wrescue.org
SUMMARY:Luksembourger National Challenge 2026
DESCRIPTION:Luksembourger National Challenge 2026 – June 13th & 14th.  https://lro.lu/
URL:https://wrescue.org/event/luxembourg-national-challenge-2026/
END:VEVENT
BEGIN:VEVENT
DTSTART;VALUE=DATE:20260620
DTEND;VALUE=DATE:20260624
DTSTAMP:20260424T054809
CREATED:20260221T001229Z
LAST-MODIFIED:20260221T001229Z
UID:3175-1781996400-1782341999@wrescue.org
SUMMARY:ABRES Brazilian National Extrication & Trauma Challenge 2026
DESCRIPTION:ABRES Brazilian National Extrication & Trauma Challenge 2026 – \nJune 24th – 26th 2026 \nMato Grosso Military Fire Department
URL:https://wrescue.org/event/abres-brazilian-national-extrication-trauma-challenge-2026/
END:VEVENT
BEGIN:VEVENT
DTSTART;VALUE=DATE:20260621
DTEND;VALUE=DATE:20260625
DTSTAMP:20260424T054809
CREATED:20250126T221954Z
LAST-MODIFIED:20260220T235707Z
UID:1223-1782082800-1782428399@wrescue.org
SUMMARY:ENRATT2026 - Spanish National
DESCRIPTION:Spanish Rescue Challenge ENRATT2026 održat će se od 22. lipnja do 25. lipnja 2026\, Madrid Spain
URL:https://wrescue.org/event/enratt2026-spanish-national/
END:VEVENT
BEGIN:VEVENT
DTSTART;VALUE=DATE:20260625
DTEND;VALUE=DATE:20260627
DTSTAMP:20260424T054809
CREATED:20260219T111139Z
LAST-MODIFIED:20260219T112643Z
UID:1898-1782428400-1782601199@wrescue.org
SUMMARY:VDFU - Njemačka - Trauma & Extrication Challenge
DESCRIPTION:We would like to announce the date for the VFDU German national Rescue&Trauma challenge.\n\nIt will take place June 26. And 27. A 2026 in the City of Bad Orb\, Njemačka / State of Hessen / Main-Kinzig County (40 minutes east of Frankfurt am Main).\nAnmeldung via MS Forms Links_RC_TC
URL:https://wrescue.org/event/vdfu-germany-trauma-extrication-challenge/
ATTACH;FMTTYPE=application/pdf:https://wrescue.org/wp-content/uploads/2026/02/Anmeldung-via-MS-Forms-Links_RC_TC-1.pdf
END:VEVENT
BEGIN:VEVENT
DTSTART;VALUE=DATE:20260629
DTEND;VALUE=DATE:20260702
DTSTAMP:20260424T054809
CREATED:20260226T194607Z
LAST-MODIFIED:20260226T195004Z
UID:3200-1782774000-1783033199@wrescue.org
SUMMARY:ARO Industrial & Domestic Rescue 2026
DESCRIPTION:Hunter Valley \, TBC [June/July]
URL:https://wrescue.org/event/industrial-domestic-rescue-2026/
END:VEVENT
END:VCALENDAR