BEGIN:VCALENDAR
VERSION:2.0
PRODID:-//Organización mundial de rescate - ECPv6.10.1.1//NONSGML v1.0//EN
CALSCALE:GREGORIAN
METHOD:PUBLISH
X-WR-CALNAME:World Rescue Organisation
X-ORIGINAL-URL:https://wrescue.org
X-WR-CALDESC:Events for Organización mundial de rescate
REFRESH-INTERVAL;VALUE=DURATION:PT1H
X-Robots-Tag:noindex
X-PUBLISHED-TTL:PT1H
BEGIN:VTIMEZONE
TZID:UTC
BEGIN:STANDARD
TZOFFSETFROM:+0000
TZOFFSETTO:+0000
TZNAME:UTC
DTSTART:20260101T000000
END:STANDARD
END:VTIMEZONE
BEGIN:VEVENT
DTSTART;VALUE=DATE:20260505
DTEND;VALUE=DATE:20260509
DTSTAMP:20260424T033150
CREATED:20250124T133618Z
LAST-MODIFIED:20260221T000413Z
UID:1140-1778022000-1778367599@wrescue.org
SUMMARY:EE. UU. Navra - Desafío nacional 2026
DESCRIPTION:Fechas del Desafío Nacional NAVRA: \nMay 6th  Training and Education day \nMay 7th-8th  ALS/Trauma Challenge \nMay 7th-9th Extrication Challenge \nPalm Beach State College\, Florida
URL:https://wrescue.org/event/usa-national-challenge-2026/
LOCATION:Palm Beach State College
END:VEVENT
BEGIN:VEVENT
DTSTART;VALUE=DATE:20260514
DTEND;VALUE=DATE:20260516
DTSTAMP:20260424T033150
CREATED:20250124T133130Z
LAST-MODIFIED:20260217T164658Z
UID:1132-1778799600-1778972399@wrescue.org
SUMMARY:Croatia National Challenge
DESCRIPTION:Desafío Nacional Croata 2026 \n15th & 16th May \, dividir croacia.
URL:https://wrescue.org/event/croatia-national-challenge/
LOCATION:Split\, Croatia\, Croacia (Nombre local: Croacia)
END:VEVENT
BEGIN:VEVENT
DTSTART;VALUE=DATE:20260520
DTEND;VALUE=DATE:20260524
DTSTAMP:20260424T033150
CREATED:20260221T000832Z
LAST-MODIFIED:20260221T000832Z
UID:3171-1779318000-1779663599@wrescue.org
SUMMARY:ANSD National Trauma & Extrication & Rope Rescue  Challenge 2026
DESCRIPTION:ANSD National Trauma and Extrication & Rope Rescue Challenge 2026 \n21st to 24th May 2026\, Portimao\, Algarve \, Portugal
URL:https://wrescue.org/event/ansd-national-trauma-extrication-rope-rescue-challenge-2026/
END:VEVENT
END:VCALENDAR