BEGIN:VCALENDAR
VERSION:2.0
PRODID:-//Organização Mundial de Resgate - ECPv6.10.1.1//NONSGML v1.0//EN
CALSCALE:GREGORIAN
METHOD:PUBLISH
X-ORIGINAL-URL:https://wrescue.org
X-WR-CALDESC:Events for Organização Mundial de Resgate
REFRESH-INTERVAL;VALUE=DURATION:PT1H
X-Robots-Tag:noindex
X-PUBLISHED-TTL:PT1H
BEGIN:VTIMEZONE
TZID:UTC
BEGIN:STANDARD
TZOFFSETFROM:+0000
TZOFFSETTO:+0000
TZNAME:UTC
DTSTART:20260101T000000
END:STANDARD
END:VTIMEZONE
BEGIN:VEVENT
DTSTART;VALUE=DATE:20260924
DTEND;VALUE=DATE:20260926
DTSTAMP:20260424T141742
CREATED:20250124T134514Z
LAST-MODIFIED:20260411T131553Z
UID:1148-1790290800-1790463599@wrescue.org
SUMMARY:Austrian National Extrication & Trauma Challenges 2026
DESCRIPTION:Austrian Rescue Challenge acontecerá nos dias 25 e 26 de setembro 2026  \n\nSeptember 25 – September 26\nAltenschlag\n\n\n\nAustrian Rescue Challenge will happen on 25th and 26th September 2026\nhttps://www.ff-altenschlag.at/thl-tage-2026\n\n\n\nTHL-Tage 2026 \n\n\nTrauma-Tag 2026
URL:https://wrescue.org/event/austrian-national-challenge-2026/
END:VEVENT
END:VCALENDAR