BEGIN:VCALENDAR
VERSION:2.0
PRODID:-//Organização Mundial de Resgate - ECPv6.10.1.1//NONSGML v1.0//EN
CALSCALE:GREGORIAN
METHOD:PUBLISH
X-WR-CALNAME:World Rescue Organisation
X-ORIGINAL-URL:https://wrescue.org
X-WR-CALDESC:Events for Organização Mundial de Resgate
REFRESH-INTERVAL;VALUE=DURATION:PT1H
X-Robots-Tag:noindex
X-PUBLISHED-TTL:PT1H
BEGIN:VTIMEZONE
TZID:UTC
BEGIN:STANDARD
TZOFFSETFROM:+0000
TZOFFSETTO:+0000
TZNAME:UTC
DTSTART:20260101T000000
END:STANDARD
END:VTIMEZONE
BEGIN:VEVENT
DTSTART;VALUE=DATE:20260621
DTEND;VALUE=DATE:20260625
DTSTAMP:20260424T090645
CREATED:20250126T221954Z
LAST-MODIFIED:20260220T235707Z
UID:1223-1782082800-1782428399@wrescue.org
SUMMARY:ENRATT2026 - Spanish National
DESCRIPTION:O Spanish Rescue Challenge ENRATT2026 acontecerá de 22 a 25 de junho 2026\, Madrid Spain
URL:https://wrescue.org/event/enratt2026-spanish-national/
END:VEVENT
END:VCALENDAR